BEGIN:VCALENDAR
VERSION:2.0
PRODID:-//eventon.com NONSGML v1.0//EN
CALSCALE:GREGORIAN
METHOD:PUBLISH
BEGIN:VEVENT
UID:69e7472b16812
DTSTAMP:20260421T094515Z
DTSTART:20230926T143000Z
DTEND:20230926T170000Z
LOCATION:Schneider Korbwaren AG
SUMMARY:Social-Media und KI im Unternehmen
DESCRIPTION:2023 soll es weltweit rund fünf Milliarden aktive Social-Media
  Nutzer geben. Nicht nur grosse Firmen\,  sondern immer mehr kleine und mit
 tlere Unternehmen nutzen Social-Media-Kanäle\,  um sich und ihre Produkte 
 zu vermarkten. Wer wettbewerbsfähig sein will\,  muss online gehen! Welche
 s sind erfolgreiche Social-Media-Marketingstrategien? Wie erlangt man grös
 sere Aufmerksamkeit und Reichweite auf[..]\nhttps://www.agv-rheintal.ch/anl
 aesse/social-media-und-ki-im-unternehmen/
URL:https://www.agv-rheintal.ch/anlaesse/social-media-und-ki-im-unternehmen/
END:VEVENT
END:VCALENDAR