BEGIN:VCALENDAR
VERSION:2.0
PRODID:-//eventon.com NONSGML v1.0//EN
CALSCALE:GREGORIAN
METHOD:PUBLISH
BEGIN:VEVENT
UID:69e78ff7e7956
DTSTAMP:20260421T145551Z
DTSTART:20230614T150000Z
DTEND:20230614T180000Z
LOCATION:SIPO (Switzerland Innovation Park Ost)
SUMMARY:AGV Rheintal meets SIPO und EMPA
DESCRIPTION:(Switzerland Innovation Park Ost und Eidgenössische Materialpr
 üfungs- und Forschungsanstalt\,  St. Gallen) Durch die Vernetzung von Wirt
 schaft und Wissenschaft wird die Innovation gefördert. Drei spannende Refe
 renten geben uns Einblicke in die Innovationskraft der Ostschweiz. Durch di
 e Entwicklung neuer hochstehender Produkte und Dienstleistungen oder vielve
 rsprechender Geschäftsmodelle können KMUs ihre Wettbewerbsfähigkeit stei
 gern und[..]\nhttps://www.agv-rheintal.ch/anlaesse/agv-rheintal-meets-sipo-
 und-empa/
URL:https://www.agv-rheintal.ch/anlaesse/agv-rheintal-meets-sipo-und-empa/
END:VEVENT
END:VCALENDAR