BEGIN:VCALENDAR
VERSION:2.0
PRODID:-//eventon.com NONSGML v1.0//EN
CALSCALE:GREGORIAN
METHOD:PUBLISH
BEGIN:VEVENT
UID:69e75d8d78f35
DTSTAMP:20260421T112045Z
DTSTART:20230329T163000Z
DTEND:20230329T200000Z
LOCATION:Kino Madlen
SUMMARY:AGV Social Cultural Event „Starbugs Comedy live im Madlen“
DESCRIPTION:AGV steht nicht nur für Wissen- und Erfahrungsaustausch\,  son
 dern auch für Erlebnisse und die Pflege gesellschaftlicher Kontakte. Diese
 s Jahr laden wir deshalb alle AGV-Mitglieder zu einem kulturellen Erlebnis 
 mit der Comedian-Truppe «Starbugs Comedy» ins Kinotheater Madlen in Heerb
 rugg ein. Selbstverständlich wird auch für das leibliche Wohl gesorgt sei
 n. Von New[..]\nhttps://www.agv-rheintal.ch/anlaesse/save-the-date-agv-soci
 al-cultural-event-starbugs-comedy-live-im-madlen/
URL:https://www.agv-rheintal.ch/anlaesse/save-the-date-agv-social-cultural-event-starbugs-comedy-live-im-madlen/
END:VEVENT
END:VCALENDAR