BEGIN:VCALENDAR
VERSION:2.0
PRODID:-//eventon.com NONSGML v1.0//EN
CALSCALE:GREGORIAN
METHOD:PUBLISH
BEGIN:VEVENT
UID:69e746f7ce9d6
DTSTAMP:20260421T094423Z
DTSTART:20231110T083000Z
DTEND:20231110T110000Z
LOCATION:Hotel Metropol\,  Widebaumsaal
SUMMARY:Lohntalk 2023
DESCRIPTION:Wie geht es der Wirtschaft und was macht die Konjunktur in unse
 rer Region? Wie ist die Auftragslage\,  wie die Situation auf dem Arbeitsma
 rkt und wie entwickeln sich die LÃ¶hne im nÃ¤chsten Jahr? Ãœber diese Frage
 n und einiges mehr referieren der IHK-ChefÃ¶konom sowie vier FÃ¼hrungspersÃ
 ¶nlichkeiten aus verschiedenen Branchen am traditionellen AGV[..]\nhttps://
 www.agv-rheintal.ch/anlaesse/lohntalk-2023/
URL:https://www.agv-rheintal.ch/anlaesse/lohntalk-2023/
END:VEVENT
END:VCALENDAR