BEGIN:VCALENDAR
VERSION:2.0
PRODID:-//eventon.com NONSGML v1.0//EN
CALSCALE:GREGORIAN
METHOD:PUBLISH
BEGIN:VEVENT
UID:69e763ced766d
DTSTAMP:20260421T114726Z
DTSTART:20230428T133000Z
DTEND:20230428T170000Z
LOCATION:Rhema
SUMMARY:Hauptversammlung 2023
DESCRIPTION:Zeitungsbericht Rheintal24.ch Zeitungsbericht Der Rheintaler Ei
 nladung Automatischer Kalendereintrag &nbsp;\nhttps://www.agv-rheintal.ch/a
 nlaesse/hauptversammlung-2023-agv-rheintal/
URL:https://www.agv-rheintal.ch/anlaesse/hauptversammlung-2023-agv-rheintal/
END:VEVENT
END:VCALENDAR