BEGIN:VCALENDAR
VERSION:2.0
PRODID:-//eventon.com NONSGML v1.0//EN
CALSCALE:GREGORIAN
METHOD:PUBLISH
BEGIN:VEVENT
UID:69e767217c804
DTSTAMP:20260421T120137Z
DTSTART:20221111T083000Z
DTEND:20221111T123000Z
LOCATION:Hotel Metropol\,  Widebaumsaal
SUMMARY:Lohntalk 2022
DESCRIPTION:Wie geht es der Wirtschaft und was macht die Konjunktur in unse
 rer Region? Wie ist die Auftragslage\,  wie die Situation auf dem Arbeitsma
 rkt und wie entwickeln sich die LÃ¶hne im nÃ¤chsten Jahr? Ãœber diese Frage
 n und einiges mehr referieren der IHK-ChefÃ¶konom sowie vier FÃ¼hrungspersÃ
 ¶nlichkeiten aus verschiedenen Branchen am traditionellen AGV[..]\nhttps://
 www.agv-rheintal.ch/anlaesse/lohntalk2022/
URL:https://www.agv-rheintal.ch/anlaesse/lohntalk2022/
END:VEVENT
END:VCALENDAR