BEGIN:VCALENDAR
VERSION:2.0
PRODID:-//eventon.com NONSGML v1.0//EN
CALSCALE:GREGORIAN
METHOD:PUBLISH
BEGIN:VEVENT
UID:69e75f379b7bd
DTSTAMP:20260421T112751Z
DTSTART:20221025T140000Z
DTEND:20221025T163000Z
LOCATION:ri.nova Impulszentrum
SUMMARY:AGV-Symposium: Energie und Klima – Energieversorgung Schweiz
DESCRIPTION:Inhalt Der Klimawandel zeigt sich schon heute in extremen Wette
 rereignissen\,  Trockenheit und Hitzewellen und macht eine Energiewende zu 
 erneuerbaren Energien unumgänglich. Die Energiepreise in Europa sind jedoc
 h stark angestiegen und die Versorgung mit ausreichend Strom und Gas schein
 t auch in der Schweiz massiv gefährdet zu sein. Energiesparen ist angesagt
 ! Wie[..]\nhttps://www.agv-rheintal.ch/anlaesse/agv-symposium-energie-und-k
 lima-energieversorgung-schweiz/
URL:https://www.agv-rheintal.ch/anlaesse/agv-symposium-energie-und-klima-energieversorgung-schweiz/
END:VEVENT
END:VCALENDAR