BEGIN:VCALENDAR
VERSION:2.0
PRODID:-//eventon.com NONSGML v1.0//EN
CALSCALE:GREGORIAN
METHOD:PUBLISH
BEGIN:VEVENT
UID:69e775e650da2
DTSTAMP:20260421T130438Z
DTSTART:20221012T143000Z
DTEND:20221012T163000Z
LOCATION:Rechenzentrum Ostschweiz
SUMMARY:Cloud Computing & Cybersecurity - Besichtigung Rechenzentrum Ostschweiz in Gais
DESCRIPTION:Das Rechenzentrum Ostschweiz ist dank Photovoltaik und ausgerei
 fter\,  adiabatischer Kühlvorrichtung das energieeffizienteste Rechenzentr
 um der Schweiz. Das Rechenzentrum wird auf TIER IV Level zertifiziert und e
 rreicht damit den höchsten Verfügbarkeitsstandard von 99\, 998 %. Das Geb
 äude ist bis zu jedem einzelnen Rack komplett redundant erschlossen. Mit e
 iner Fläche von 2 x 450[..]\nhttps://www.agv-rheintal.ch/anlaesse/cloud-co
 mputing-cybersecurity-besichtigung-rechenzentrum-ostschweiz-in-gais/
URL:https://www.agv-rheintal.ch/anlaesse/cloud-computing-cybersecurity-besichtigung-rechenzentrum-ostschweiz-in-gais/
END:VEVENT
END:VCALENDAR