BEGIN:VCALENDAR
VERSION:2.0
PRODID:-//eventon.com NONSGML v1.0//EN
CALSCALE:GREGORIAN
METHOD:PUBLISH
BEGIN:VEVENT
UID:69e75bd451d34
DTSTAMP:20260421T111324Z
DTSTART:20220818T140000Z
DTEND:20220818T163000Z
LOCATION:Optik-Hus Heinrich-Wild-Strasse 208\,  9435 Heerbrugg
SUMMARY:AGV-Symposium: «Generation 55+ – Potential ohne Ende»
DESCRIPTION:Inhalt Studien zufolge fehlen in den nächsten 10 Jahren in der
  Schweiz eine halbe Million Arbeitskräfte. Allein für das St. Galler Rhei
 ntal gehen die Schätzungen für das Jahr 2030 gegen 4‘000 unbesetzte Ste
 llen. Besonders betroffen sind Berufe\,  die eine hohe Qualifikation voraus
 setzen Die ältere Generation von Mitarbeitenden bietet dabei ein[..]\nhttp
 s://www.agv-rheintal.ch/anlaesse/agv-symposium-generation-55-potential-ohne
 -ende/
URL:https://www.agv-rheintal.ch/anlaesse/agv-symposium-generation-55-potential-ohne-ende/
END:VEVENT
END:VCALENDAR