BEGIN:VCALENDAR
VERSION:2.0
PRODID:-//eventon.com NONSGML v1.0//EN
CALSCALE:GREGORIAN
METHOD:PUBLISH
BEGIN:VEVENT
UID:69e75f07898a0
DTSTAMP:20260421T112703Z
DTSTART:20220517T150000Z
DTEND:20220517T162000Z
LOCATION:ri.nova Impulszentrum
SUMMARY:Exportdialog Grossbritannien
DESCRIPTION:Einladung Automatischer Kalendereintrag\nhttps://www.agv-rheint
 al.ch/anlaesse/exportdialog-grossbritannien/
URL:https://www.agv-rheintal.ch/anlaesse/exportdialog-grossbritannien/
END:VEVENT
END:VCALENDAR