BEGIN:VCALENDAR
VERSION:2.0
PRODID:-//eventon.com NONSGML v1.0//EN
CALSCALE:GREGORIAN
METHOD:PUBLISH
BEGIN:VEVENT
UID:69e78af7def74
DTSTAMP:20260421T143431Z
DTSTART:20220519T160000Z
DTEND:20220519T180000Z
LOCATION:SFS Group AG
SUMMARY:Wirtschaftlicher Solarstrom auf Industrie- und Gewerbedächern
DESCRIPTION:Präsentation Jens Breu\,  SFS Präsentation Philipp Egger und 
 Christian Eisenhut\,  Energieagentur St. Gallen Präsentation Peter Mayer\,
   SFS Windenergieprojekt\,  SFS Flyer Automatischer Kalendereintrag\nhttps:
 //www.agv-rheintal.ch/anlaesse/wirtschaftlicher-solarstrom-auf-industrie-un
 d-gewerbedaechern/
URL:https://www.agv-rheintal.ch/anlaesse/wirtschaftlicher-solarstrom-auf-industrie-und-gewerbedaechern/
END:VEVENT
END:VCALENDAR