BEGIN:VCALENDAR
VERSION:2.0
PRODID:-//eventon.com NONSGML v1.0//EN
CALSCALE:GREGORIAN
METHOD:PUBLISH
BEGIN:VEVENT
UID:69e763eda36b7
DTSTAMP:20260421T114757Z
DTSTART:20220405T163000Z
DTEND:20220405T180000Z
LOCATION:OMR Aula Schulhaus Am Bach
SUMMARY:Regionale Berufs- und Ausbildungsmesse Rheintal RBAM
DESCRIPTION:Automatischer Kalendereintrag\nhttps://www.agv-rheintal.ch/anla
 esse/regionale-berufs-und-ausbildungsmesse-rheintal-rbam/
URL:https://www.agv-rheintal.ch/anlaesse/regionale-berufs-und-ausbildungsmesse-rheintal-rbam/
END:VEVENT
END:VCALENDAR