BEGIN:VCALENDAR
VERSION:2.0
PRODID:-//eventon.com NONSGML v1.0//EN
CALSCALE:GREGORIAN
METHOD:PUBLISH
BEGIN:VEVENT
UID:69e787779b496
DTSTAMP:20260421T141935Z
DTSTART:20211112T083000Z
DTEND:20211112T110000Z
LOCATION:Hotel Metropol\,  Widebaumsaal
SUMMARY:AGV Lohn-Talk
DESCRIPTION:Gesamtpräsentation Der Rheintaler Rheintal24 Einladung Automat
 ischer Kalendereintrag\nhttps://www.agv-rheintal.ch/anlaesse/agv-lohn-talk/
URL:https://www.agv-rheintal.ch/anlaesse/agv-lohn-talk/
END:VEVENT
END:VCALENDAR