BEGIN:VCALENDAR
VERSION:2.0
PRODID:-//eventon.com NONSGML v1.0//EN
CALSCALE:GREGORIAN
METHOD:PUBLISH
BEGIN:VEVENT
UID:69e76279f0f27
DTSTAMP:20260421T114145Z
DTSTART:20211021T143000Z
DTEND:20211021T173000Z
LOCATION:Stadler Rheintal AG Neudorfstrasse 8\,  9430 St. Margrethen
SUMMARY:Betriebsbesichtigung bei Stadler Rheintal AG (Stadler Rail)
DESCRIPTION:Einladungskarte Automatischer Kalendereintrag\nhttps://www.agv-
 rheintal.ch/anlaesse/betriebsbesichtigung-bei-stadler-rheintal-ag-stadler-r
 ail-in-st-margrethen/
URL:https://www.agv-rheintal.ch/anlaesse/betriebsbesichtigung-bei-stadler-rheintal-ag-stadler-rail-in-st-margrethen/
END:VEVENT
END:VCALENDAR