BEGIN:VCALENDAR
VERSION:2.0
PRODID:-//eventon.com NONSGML v1.0//EN
CALSCALE:GREGORIAN
METHOD:PUBLISH
BEGIN:VEVENT
UID:69e75c1d6aa08
DTSTAMP:20260421T111437Z
DTSTART:20210827T120000Z
DTEND:20210827T180000Z
LOCATION:
SUMMARY:AGV Social Event „Bike\,  Talk & Spiel“
DESCRIPTION:Einladung Automatischer Kalendereintrag &nbsp;\nhttps://www.agv
 -rheintal.ch/anlaesse/agv-social-event-bike-talk-spiel/
URL:https://www.agv-rheintal.ch/anlaesse/agv-social-event-bike-talk-spiel/
END:VEVENT
END:VCALENDAR