BEGIN:VCALENDAR
VERSION:2.0
PRODID:-//eventon.com NONSGML v1.0//EN
CALSCALE:GREGORIAN
METHOD:PUBLISH
BEGIN:VEVENT
UID:69e535cbab2ec
DTSTAMP:20260419T200635Z
DTSTART:20210518T143000Z
DTEND:20210518T160000Z
LOCATION:
SUMMARY:EXPORTDIALOG DIGITAL: VERTRIEB IN DEUTSCHLAND
DESCRIPTION:WAS SIE BEI DER LIEFERUNG AN DEUTSCHE KUNDEN BEACHTEN MÜSSEN. 
 Deutschland ist der wichtigste Handelspartner der Schweiz. Bei der Lieferun
 g an deutsche Kunden gelten jedoch verschiedene rechtliche Besonderheiten\,
   die für Schweizer Exporteure zu Stolpersteinen werden können. Neben ve
 rschiedenen Vereinbarungsformen gilt es\,  spezifische Regelungen u.a. zur 
 Zahlung\,  Haftung und bezüglich Beschaffungspflichten zu[..]\nhttps://www
 .agv-rheintal.ch/anlaesse/exportdialog-digital-vertrieb-in-deutschland/
URL:https://www.agv-rheintal.ch/anlaesse/exportdialog-digital-vertrieb-in-deutschland/
END:VEVENT
END:VCALENDAR