BEGIN:VCALENDAR
VERSION:2.0
PRODID:-//eventon.com NONSGML v1.0//EN
CALSCALE:GREGORIAN
METHOD:PUBLISH
BEGIN:VEVENT
UID:69ea011a53d44
DTSTAMP:20260423T112306Z
DTSTART:20220408T130000Z
DTEND:20220408T180000Z
LOCATION:Lütolf AG
SUMMARY:Hauptversammlung 2022 AGV Rheintal
DESCRIPTION:Zeitungsbericht GV https://rheintaler.ch/artikel/auf-luechinger
 -folgt-brammertz/82978 https://rheintaler.ch/artikel/goldener-schraubenzieh
 er-fuer-eugen-voit/82991 https://rheintal24.ch/articles/123953-zwei-gluecks
 faelle-fuer-das-rheintal Automatischer Kalendereintrag Einladung\nhttps://w
 ww.agv-rheintal.ch/anlaesse/hauptversammlung-2022-agv-rheintal/
URL:https://www.agv-rheintal.ch/anlaesse/hauptversammlung-2022-agv-rheintal/
END:VEVENT
END:VCALENDAR