BEGIN:VCALENDAR
VERSION:2.0
PRODID:-//eventon.com NONSGML v1.0//EN
CALSCALE:GREGORIAN
METHOD:PUBLISH
BEGIN:VEVENT
UID:69e73561614ae
DTSTAMP:20260421T082921Z
DTSTART:20210308T063000Z
DTEND:20210308T080000Z
LOCATION:
SUMMARY:Webinar: Wirtschaft trifft OST: Campus Buchs
DESCRIPTION:In der diesjÃ¤hrigen Veranstaltungsreihe Â«IHK in den RegionenÂ
 » lÃ¤den die IHK ST. Gallen-Appenzell und der AGV Rheintal zu einem Webinar
  zum Thema â€žOST â€“ Ostschweizer Fachhochschule: Campus Buchâ€œ ein. Schw
 ergewichtig widmen wir uns dabei dem Zusammenschluss der drei Fachhochschul
 en zur Â«OST â€“ Ostschweizer FachhochschuleÂ». Rektor Daniel Seelhofer wir
 d das Gesamtprojekt[..]\nhttps://www.agv-rheintal.ch/anlaesse/webinar-wirts
 chaft-trifft-ost-campus-buchs/
URL:https://www.agv-rheintal.ch/anlaesse/webinar-wirtschaft-trifft-ost-campus-buchs/
END:VEVENT
END:VCALENDAR