BEGIN:VCALENDAR
VERSION:2.0
PRODID:-//eventon.com NONSGML v1.0//EN
CALSCALE:GREGORIAN
METHOD:PUBLISH
BEGIN:VEVENT
UID:69e55c732662b
DTSTAMP:20260419T225131Z
DTSTART:20200324T153000Z
DTEND:20200324T183000Z
LOCATION:Rechenzentrum Ostschweiz
SUMMARY:Absage/Verschiebung! Cloud Computing & Cybersecurity (Besichtigung Rechenzentrum Ostschweiz in Gais)
DESCRIPTION:Auf unbestimmte Zeit verschoben! &nbsp; Einladung\nhttps://www.
 agv-rheintal.ch/anlaesse/cloud-computing-cybersecurity/
URL:https://www.agv-rheintal.ch/anlaesse/cloud-computing-cybersecurity/
END:VEVENT
END:VCALENDAR