BEGIN:VCALENDAR
VERSION:2.0
PRODID:-//eventon.com NONSGML v1.0//EN
CALSCALE:GREGORIAN
METHOD:PUBLISH
BEGIN:VEVENT
UID:69e54bd1478ed
DTSTAMP:20260419T214033Z
DTSTART:20201113T091000Z
DTEND:20201113T104000Z
LOCATION:Hotel Metropol\,  Widebaumsaal
SUMMARY:AGV Lohn-Talk 2020
DESCRIPTION:Online Artikel &#8211; Rheintal24 Online Artikel &#8211; Der Rh
 eintaler Präsentation AGV Lohn-Talk 2020 Anleitung Erstellung Youtube-Kont
 o Einladungskarte Automatischer Kalendereintrag &nbsp;\nhttps://www.agv-rhe
 intal.ch/anlaesse/lohnapero-2020/
URL:https://www.agv-rheintal.ch/anlaesse/lohnapero-2020/
END:VEVENT
END:VCALENDAR