BEGIN:VCALENDAR
VERSION:2.0
PRODID:-//eventon.com NONSGML v1.0//EN
CALSCALE:GREGORIAN
METHOD:PUBLISH
BEGIN:VEVENT
UID:69e54ec406f68
DTSTAMP:20260419T215308Z
DTSTART:20200903T140000Z
DTEND:20200903T170000Z
LOCATION:Stadler Rheintal AG Neudorfstrasse 8\,  9430 St. Margrethen
SUMMARY:Hauptversammlung 2020 AGV Rheintal
DESCRIPTION:Einladungskarte Automatischer Kalendereintrag &nbsp;\nhttps://w
 ww.agv-rheintal.ch/anlaesse/hauptversammlung-2020-agv-rheintal/
URL:https://www.agv-rheintal.ch/anlaesse/hauptversammlung-2020-agv-rheintal/
END:VEVENT
END:VCALENDAR