BEGIN:VCALENDAR
VERSION:2.0
PRODID:-//eventon.com NONSGML v1.0//EN
CALSCALE:GREGORIAN
METHOD:PUBLISH
BEGIN:VEVENT
UID:69e55e8071c16
DTSTAMP:20260419T230016Z
DTSTART:20191128T163000Z
DTEND:20191128T190000Z
LOCATION:ri.nova Impulszentrum
SUMMARY:Mobilität - in Zukunft elektrisch!
DESCRIPTION:Einladung Automatischer Kalendereintrag\nhttps://www.agv-rheint
 al.ch/anlaesse/elektromobilitaet-referat-und-betriebsbesichtigung-brusa-sen
 nwald/
URL:https://www.agv-rheintal.ch/anlaesse/elektromobilitaet-referat-und-betriebsbesichtigung-brusa-sennwald/
END:VEVENT
END:VCALENDAR