BEGIN:VCALENDAR
VERSION:2.0
PRODID:-//eventon.com NONSGML v1.0//EN
CALSCALE:GREGORIAN
METHOD:PUBLISH
BEGIN:VEVENT
UID:69e55e8319988
DTSTAMP:20260419T230019Z
DTSTART:20190918T120000Z
DTEND:20190918T190000Z
LOCATION:Messehalle Dornbirn
SUMMARY:AGV Forum: „Innovation und Geschäftsmodelle im digitalen Zeitalter“
DESCRIPTION:Einladung Zeitungsartikel\nhttps://www.agv-rheintal.ch/anlaesse
 /digitalisierung-industrie-4-0-an-der-w3-fair-convention-messe-in-dornbirn/
URL:https://www.agv-rheintal.ch/anlaesse/digitalisierung-industrie-4-0-an-der-w3-fair-convention-messe-in-dornbirn/
END:VEVENT
END:VCALENDAR