BEGIN:VCALENDAR
VERSION:2.0
PRODID:-//eventon.com NONSGML v1.0//EN
CALSCALE:GREGORIAN
METHOD:PUBLISH
BEGIN:VEVENT
UID:69e55bdc91bb5
DTSTAMP:20260419T224900Z
DTSTART:20190605T150000Z
DTEND:20190605T170000Z
LOCATION:icotec AG
SUMMARY:Exportdialog USA
DESCRIPTION:Einladung Zeitungsartikel Präsentation\nhttps://www.agv-rheint
 al.ch/anlaesse/exportdialog-usa/
URL:https://www.agv-rheintal.ch/anlaesse/exportdialog-usa/
END:VEVENT
END:VCALENDAR