BEGIN:VCALENDAR
VERSION:2.0
PRODID:-//eventon.com NONSGML v1.0//EN
CALSCALE:GREGORIAN
METHOD:PUBLISH
BEGIN:VEVENT
UID:69e5870a956fe
DTSTAMP:20260420T015314Z
DTSTART:20190415T150000Z
DTEND:20190415T170000Z
LOCATION:Bauwerk Parkett AG
SUMMARY:Fachkräftemangel: Moderne Ansätze in Berufsbildung und -praxis
DESCRIPTION:Einladung Zeitungsartikel Präsentation\nhttps://www.agv-rheint
 al.ch/anlaesse/fachkraeftemangel-moderne-ansaetze-in-berufsbildung-und-prax
 is/
URL:https://www.agv-rheintal.ch/anlaesse/fachkraeftemangel-moderne-ansaetze-in-berufsbildung-und-praxis/
END:VEVENT
END:VCALENDAR