BEGIN:VCALENDAR
VERSION:2.0
PRODID:-//eventon.com NONSGML v1.0//EN
CALSCALE:GREGORIAN
METHOD:PUBLISH
BEGIN:VEVENT
UID:69e5870a7e557
DTSTAMP:20260420T015314Z
DTSTART:20190314T160000Z
DTEND:20190314T190000Z
LOCATION:ri.nova Impulszentrum
SUMMARY:Die digitale Arbeitswelt der Zukunft
DESCRIPTION:Einladung Zeitungsartikel Präsentation\nhttps://www.agv-rheint
 al.ch/anlaesse/die-digitale-arbeitswelt-der-zukunft/
URL:https://www.agv-rheintal.ch/anlaesse/die-digitale-arbeitswelt-der-zukunft/
END:VEVENT
END:VCALENDAR