BEGIN:VCALENDAR
VERSION:2.0
PRODID:-//eventon.com NONSGML v1.0//EN
CALSCALE:GREGORIAN
METHOD:PUBLISH
BEGIN:VEVENT
UID:69e55e8070b30
DTSTAMP:20260419T230016Z
DTSTART:20191108T083000Z
DTEND:20191108T110000Z
LOCATION:Hotel Metropol\,  Widebaumsaal
SUMMARY:Lohnapéro 2019
DESCRIPTION:Einladung Automatischer Kalendereintrag Präsentation Zeitungsb
 ericht\nhttps://www.agv-rheintal.ch/anlaesse/lohnapero-2019/
URL:https://www.agv-rheintal.ch/anlaesse/lohnapero-2019/
END:VEVENT
END:VCALENDAR