BEGIN:VCALENDAR
VERSION:2.0
PRODID:-//eventon.com NONSGML v1.0//EN
CALSCALE:GREGORIAN
METHOD:PUBLISH
BEGIN:VEVENT
UID:69e5747e4118b
DTSTAMP:20260420T003406Z
DTSTART:20190501T143000Z
DTEND:20190501T170000Z
LOCATION:Rhema
SUMMARY:Hauptversammlung 2019 AGV Rheintal
DESCRIPTION:Einladung Zeitungsbericht\nhttps://www.agv-rheintal.ch/anlaesse
 /hauptversammlung-2019-agv-rheintal/
URL:https://www.agv-rheintal.ch/anlaesse/hauptversammlung-2019-agv-rheintal/
END:VEVENT
END:VCALENDAR